BEGIN:VCALENDAR
VERSION:2.0
PRODID:icalendar-ruby
CALSCALE:GREGORIAN
METHOD:PUBLISH
BEGIN:VEVENT
DTSTAMP:20260423T144321Z
UID:39-121685@ndupci.org
DTSTART:20260515T230000Z
DTEND:20260516T030000Z
CLASS:PUBLIC
CREATED:20260422T182538
DESCRIPTION:
LAST-MODIFIED:20260422T182538
LOCATION:501 Elks Dr\, Dickinson\, ND 58601
SUMMARY:Bible Quizzing Tournament
URL;VALUE=URI:https://ndupci.org/events/bible-quizzing-tournament--39/2026-
 05-15
ATTACH;FILENAME=385912327_285163497653806_7531842258124208006_n.jpg;FMTTYPE
 =image/jpeg:https://dq5pwpg1q8ru0.cloudfront.net/2025/11/03/01/18/54/f55a2
 f59-6050-4ac0-b279-2a03a398fa23/385912327_285163497653806_7531842258124208
 006_n.jpg
END:VEVENT
END:VCALENDAR
